BEGIN:VCALENDAR
VERSION:2.0
PRODID:-//controlguide.org - ECPv6.15.20//NONSGML v1.0//EN
CALSCALE:GREGORIAN
METHOD:PUBLISH
X-WR-CALNAME:controlguide.org
X-ORIGINAL-URL:https://controlguide.org
X-WR-CALDESC:Veranstaltungen für controlguide.org
REFRESH-INTERVAL;VALUE=DURATION:PT1H
X-Robots-Tag:noindex
X-PUBLISHED-TTL:PT1H
BEGIN:VTIMEZONE
TZID:Europe/Berlin
BEGIN:DAYLIGHT
TZOFFSETFROM:+0100
TZOFFSETTO:+0200
TZNAME:CEST
DTSTART:20250330T010000
END:DAYLIGHT
BEGIN:STANDARD
TZOFFSETFROM:+0200
TZOFFSETTO:+0100
TZNAME:CET
DTSTART:20251026T010000
END:STANDARD
BEGIN:DAYLIGHT
TZOFFSETFROM:+0100
TZOFFSETTO:+0200
TZNAME:CEST
DTSTART:20260329T010000
END:DAYLIGHT
BEGIN:STANDARD
TZOFFSETFROM:+0200
TZOFFSETTO:+0100
TZNAME:CET
DTSTART:20261025T010000
END:STANDARD
BEGIN:DAYLIGHT
TZOFFSETFROM:+0100
TZOFFSETTO:+0200
TZNAME:CEST
DTSTART:20270328T010000
END:DAYLIGHT
BEGIN:STANDARD
TZOFFSETFROM:+0200
TZOFFSETTO:+0100
TZNAME:CET
DTSTART:20271031T010000
END:STANDARD
END:VTIMEZONE
BEGIN:VEVENT
DTSTART;TZID=Europe/Berlin:20260429T150000
DTEND;TZID=Europe/Berlin:20260429T160000
DTSTAMP:20260425T180940
CREATED:20260217T111126Z
LAST-MODIFIED:20260217T213635Z
UID:1668-1777474800-1777478400@controlguide.org
SUMMARY:Kalkulation Individueller Gesundheitsleistungen (IGeL) - kostenloses Webinar!
DESCRIPTION:Ziel des Webinars:\nDas Webinar vermittelt Ihnen fundierte Kenntnisse zur wirtschaftlichen Kalkulation\, rechtssicheren Abrechnung und optimalen Patientenberatung beim Angebot Individueller Gesundheitsleistungen (IGeL). Sie lernen\, wie Sie Ihr IGeL-Portfolio unter betriebswirtschaftlichen und gesetzlichen Gesichtspunkten strategisch gestalten\, Preise sicher kalkulieren und Ihre Patientinnen und Patienten professionell beraten. \nZielgruppe:\nDas Webinar richtet sich an Ärztinnen und Ärzte aller Fachrichtungen\, Praxismanagerinnen und Praxismanager sowie medizinisches Fachpersonal\, die IGeL-Leistungen in ihrer Praxis anbieten oder anbieten möchten und Wert auf ein wirtschaftlich sowie rechtlich sicheres Vorgehen legen. Auch für Entscheidungsträger in medizinischen Versorgungszentren und Interessierte im Gesundheitswesen eignet sich das Webinar. \nAnmelden:\nBitte melden Sie sich unter Angabe des Datums\, Ihres Nachnamens und Ihrer Email-Adresse unter webinar@controlguide.org an. Sie erhalten zeitnah eine Bestätigungs-Email mit den Zugangsinformationen zum Webinar. Bitte schauen Sie ggfs. in Ihrem Spam-Ordner\, ob dort unsere Email eingegangen ist.\nMit der Zusendung Ihrer Email stimmen Sie Ihrer Datenspeicherung zu. Weitere Informationen zum Datenschutz finden Sie unter https://controlguide.org/datenschutzerklarung/.
URL:https://controlguide.org/event/kalkulation-individueller-gesundheitsleistungen-igel-3/
LOCATION:Webinar
END:VEVENT
END:VCALENDAR