BEGIN:VCALENDAR
VERSION:2.0
PRODID:-//controlguide.org - ECPv6.15.20//NONSGML v1.0//EN
CALSCALE:GREGORIAN
METHOD:PUBLISH
X-WR-CALNAME:controlguide.org
X-ORIGINAL-URL:https://controlguide.org
X-WR-CALDESC:Veranstaltungen für controlguide.org
REFRESH-INTERVAL;VALUE=DURATION:PT1H
X-Robots-Tag:noindex
X-PUBLISHED-TTL:PT1H
BEGIN:VTIMEZONE
TZID:Europe/Berlin
BEGIN:DAYLIGHT
TZOFFSETFROM:+0100
TZOFFSETTO:+0200
TZNAME:CEST
DTSTART:20250330T010000
END:DAYLIGHT
BEGIN:STANDARD
TZOFFSETFROM:+0200
TZOFFSETTO:+0100
TZNAME:CET
DTSTART:20251026T010000
END:STANDARD
BEGIN:DAYLIGHT
TZOFFSETFROM:+0100
TZOFFSETTO:+0200
TZNAME:CEST
DTSTART:20260329T010000
END:DAYLIGHT
BEGIN:STANDARD
TZOFFSETFROM:+0200
TZOFFSETTO:+0100
TZNAME:CET
DTSTART:20261025T010000
END:STANDARD
BEGIN:DAYLIGHT
TZOFFSETFROM:+0100
TZOFFSETTO:+0200
TZNAME:CEST
DTSTART:20270328T010000
END:DAYLIGHT
BEGIN:STANDARD
TZOFFSETFROM:+0200
TZOFFSETTO:+0100
TZNAME:CET
DTSTART:20271031T010000
END:STANDARD
END:VTIMEZONE
BEGIN:VEVENT
DTSTART;TZID=Europe/Berlin:20260408T150000
DTEND;TZID=Europe/Berlin:20260408T160000
DTSTAMP:20260425T174744
CREATED:20260217T164540Z
LAST-MODIFIED:20260217T213323Z
UID:2092-1775660400-1775664000@controlguide.org
SUMMARY:Die BWA - Warum Sie jetzt mit Ihrem Steuerberater reden sollten - kostenloses Webinar
DESCRIPTION:Ziel des Webinars:\nZiel des Webinars ist es\, die Bedeutung einer strukturierten Kontenführung in der BWA für Arztpraxen zu vermitteln. Dadurch sollen die Teilnehmer befähigt werden\, Transparenz über ihre Praxisfinanzen zu schaffen und bessere betriebswirtschaftliche Entscheidungen zu treffen. \nZielgruppe:\nDie Zielgruppe dieses Webinars sind niedergelassene Ärztinnen und Ärzte sowie Praxismanager\, die ihre betriebswirtschaftlichen Kenntnisse vertiefen und die finanzielle Steuerung ihrer Praxis optimieren möchten. Angesprochen werden insbesondere Personen\, die Verantwortung für die Organisation und Auswertung der Praxisfinanzen tragen. \nAnmelden:\nBitte melden Sie sich unter Angabe des Datums\, Ihres Nachnamens und Ihrer Email-Adresse unter webinar@controlguide.org an. Sie erhalten zeitnah eine Bestätigungs-Email mit den Zugangsinformationen zum Webinar. Bitte schauen Sie ggfs. in Ihrem Spam-Ordner\, ob dort unsere Email eingegangen ist.\nMit der Zusendung Ihrer Email stimmen Sie Ihrer Datenspeicherung zu. Weitere Informationen zum Datenschutz finden Sie unter https://controlguide.org/datenschutzerklarung/.
URL:https://controlguide.org/event/die-bwa-warum-sie-jetzt-mit-ihrem-steuerberater-reden-sollten-kostenloses-webinar-2/
END:VEVENT
END:VCALENDAR